BEGIN:VCALENDAR
VERSION:2.0
PRODID:-//Call the Shots - ECPv6.11.0//NONSGML v1.0//EN
CALSCALE:GREGORIAN
METHOD:PUBLISH
X-ORIGINAL-URL:https://calltheshots.website
X-WR-CALDESC:Events for Call the Shots
REFRESH-INTERVAL;VALUE=DURATION:PT1H
X-Robots-Tag:noindex
X-PUBLISHED-TTL:PT1H
BEGIN:VTIMEZONE
TZID:Europe/London
BEGIN:DAYLIGHT
TZOFFSETFROM:+0000
TZOFFSETTO:+0100
TZNAME:BST
DTSTART:20250330T010000
END:DAYLIGHT
BEGIN:STANDARD
TZOFFSETFROM:+0100
TZOFFSETTO:+0000
TZNAME:GMT
DTSTART:20251026T010000
END:STANDARD
END:VTIMEZONE
BEGIN:VEVENT
DTSTART;TZID=Europe/London:20250321T203000
DTEND;TZID=Europe/London:20250321T233000
DTSTAMP:20260423T232821
CREATED:20240809T151003Z
LAST-MODIFIED:20240809T151003Z
UID:621-1742589000-1742599800@calltheshots.website
SUMMARY:Call The Shots @ The Blue Lagoon
DESCRIPTION:
URL:https://calltheshots.website/event/call-the-shots-the-blue-lagoon/
LOCATION:Blue Lagoon\, Gloucester Road\, Bristol
END:VEVENT
BEGIN:VEVENT
DTSTART;TZID=Europe/London:20250321T210000
DTEND;TZID=Europe/London:20250321T233000
DTSTAMP:20260423T232821
CREATED:20250203T180944Z
LAST-MODIFIED:20250203T180944Z
UID:662-1742590800-1742599800@calltheshots.website
SUMMARY:Call The Shots @ The Blue Lagoon\, Gloucester Road\, Bristol
DESCRIPTION:
URL:https://calltheshots.website/event/call-the-shots-the-blue-lagoon-gloucester-road-bristol/
LOCATION:The Blue Lagoon\, Gloucester Road\, Bristol
END:VEVENT
END:VCALENDAR